BEGIN:VCALENDAR
VERSION:2.0
PRODID:Challenger - Terras D'Ouro
X-WR-CALNAME:Challenger - Terras D'Ouro
X-WR-TIMEZONE:Europe/Lisbon
X-PUBLISHED-TTL:P1W
BEGIN:VTIMEZONE
TZID:Europe/Lisbon
X-LIC-LOCATION:Europe/Lisbon
END:VTIMEZONE
BEGIN:VEVENT
UID:69ea085d84166
DTSTART;VALUE=DATE:20260530
SEQUENCE:0
TRANSP:OPAQUE
DTEND;VALUE=DATE:20260531
SUMMARY:Challenger - Terras D'Ouro
CLASS:PUBLIC
DESCRIPTION:30 e 31 de Maio.Febres vai mexer.Dois dias fora da rotina\, em 
 equipa\, com provas que puxam por ti… e pelos teus amigos também.Não p
 recisas de ser atleta. Só precisas de aparecer com vontade.Equipa de 4.10
 0€ por pessoa.Inscrições abertas.Garante já o teu lugar.
X-MICROSOFT-CDO-ALLDAYEVENT:TRUE
DTSTAMP:20260423T115405Z
END:VEVENT
END:VCALENDAR