BEGIN:VCALENDAR
VERSION:2.0
PRODID: 8º Festival da Feijoada
X-WR-CALNAME: 8º Festival da Feijoada
X-WR-TIMEZONE:Europe/Lisbon
X-PUBLISHED-TTL:P1W
BEGIN:VTIMEZONE
TZID:Europe/Lisbon
X-LIC-LOCATION:Europe/Lisbon
END:VTIMEZONE
BEGIN:VEVENT
UID:69e5e9c2cc96a
DTSTART;VALUE=DATE:20260419
SEQUENCE:0
TRANSP:OPAQUE
DTEND;VALUE=DATE:20260420
SUMMARY: 8º Festival da Feijoada
CLASS:PUBLIC
DESCRIPTION:A Comissão de Festas em honra de Nossa Senhora da Saúde 2026 
 convidam para o 8º Festival da Feijoada. Ainda vai a tempo de se inscreve
 r!!
X-MICROSOFT-CDO-ALLDAYEVENT:TRUE
DTSTAMP:20260420T085426Z
END:VEVENT
END:VCALENDAR