BEGIN:VCALENDAR
VERSION:2.0
PRODID:O encerramento do XXVI Ciclo de Teatro Amador de Cantanhede
X-WR-CALNAME:O encerramento do XXVI Ciclo de Teatro Amador de Cantanhede
X-WR-TIMEZONE:Europe/Lisbon
X-PUBLISHED-TTL:P1W
BEGIN:VTIMEZONE
TZID:Europe/Lisbon
X-LIC-LOCATION:Europe/Lisbon
END:VTIMEZONE
BEGIN:VEVENT
UID:69e889589083b
DTSTART;VALUE=DATE:20260419
SEQUENCE:0
TRANSP:OPAQUE
DTEND;VALUE=DATE:20260420
SUMMARY:O encerramento do XXVI Ciclo de Teatro Amador de Cantanhede
CLASS:PUBLIC
DESCRIPTION:O encerramento do XXVI Ciclo de Teatro Amador de Cantanhede vai
  realizar-se no dia 19 de abril\, às 16h30\, no pavilhão multiusos de Fe
 bres.Guilherme de Bastos Lima e Vitor Emanuel vão ser os protagonistas da
  comédia \"Piolhos &amp\; Actores\"\, num espetáculo com entrada gratuit
 a mas sujeito a levantamento de bilhete\, que está disponível na Bibliot
 eca Municipal e no Museu de Arte e do Coleccionismo de Cantanhede.
X-MICROSOFT-CDO-ALLDAYEVENT:TRUE
DTSTAMP:20260422T083952Z
END:VEVENT
END:VCALENDAR