BEGIN:VCALENDAR
VERSION:2.0
PRODID:Almoço convívio no Parque de Merendas São Pedro 
X-WR-CALNAME:Almoço convívio no Parque de Merendas São Pedro 
X-WR-TIMEZONE:Europe/Lisbon
X-PUBLISHED-TTL:P1W
BEGIN:VTIMEZONE
TZID:Europe/Lisbon
X-LIC-LOCATION:Europe/Lisbon
END:VTIMEZONE
BEGIN:VEVENT
UID:69e6328233875
DTSTART;VALUE=DATE:20250817
SEQUENCE:0
TRANSP:OPAQUE
DTEND;VALUE=DATE:20250818
SUMMARY:Almoço convívio no Parque de Merendas São Pedro 
CLASS:PUBLIC
DESCRIPTION:Almoço convívio no Parque de Merendas São Pedro dia 17 de ag
 osto às 12:30
X-MICROSOFT-CDO-ALLDAYEVENT:TRUE
DTSTAMP:20260420T140450Z
END:VEVENT
END:VCALENDAR