BEGIN:VCALENDAR
VERSION:2.0
PRODID:Mostra Gastronómica e Cultural de Febres - Festival Pica no Chão
X-WR-CALNAME:Mostra Gastronómica e Cultural de Febres - Festival Pica no C
 hão
X-WR-TIMEZONE:Europe/Lisbon
X-PUBLISHED-TTL:P1W
BEGIN:VTIMEZONE
TZID:Europe/Lisbon
X-LIC-LOCATION:Europe/Lisbon
END:VTIMEZONE
BEGIN:VEVENT
UID:69e73a62c4dc6
DTSTART;VALUE=DATE:20250905
SEQUENCE:0
TRANSP:OPAQUE
DTEND;VALUE=DATE:20250906
SUMMARY:Mostra Gastronómica e Cultural de Febres - Festival Pica no Chão
CLASS:PUBLIC
X-MICROSOFT-CDO-ALLDAYEVENT:TRUE
DTSTAMP:20260421T085042Z
END:VEVENT
END:VCALENDAR